BEGIN:VCALENDAR
VERSION:2.0
PRODID:-//ISO/IEC 17020 Consultants - ECPv4.6.2//NONSGML v1.0//EN
CALSCALE:GREGORIAN
METHOD:PUBLISH
X-WR-CALNAME:ISO/IEC 17020 Consultants
X-ORIGINAL-URL:http://www.17020-consultants.nl
X-WR-CALDESC:Events for ISO/IEC 17020 Consultants
BEGIN:VEVENT
DTSTART;VALUE=DATE:20170609
DTEND;VALUE=DATE:20170610
DTSTAMP:20260423T040240
CREATED:20170407T095636Z
LAST-MODIFIED:20170407T100007Z
UID:833-1496966400-1497052799@www.17020-consultants.nl
SUMMARY:Wereld Accreditatie Dag #WAD2017
DESCRIPTION:Op 9 juni is het weer Wereld Accreditatiedag. De dag om stil te staan bij het belang van accreditatie van conformiteitsbeoordelende instellingen. \n \nDit jaar staat de bouw en wat accreditatie in deze sector kan betekenen\, centraal. Het motto is &#8220;Delivering confidence in construction\n and the built environment&#8221; \nEen poster en een brochure zijn beschikbaar via ILAC. \n
URL:http://www.17020-consultants.nl/17020-evenement/wereld-accreditatie-dag-war2017/
CATEGORIES:Overige evenementen
ATTACH;FMTTYPE=image/png:http://www.17020-consultants.nl/wp-content/uploads/2017/04/WAD2017_HL.png
END:VEVENT
END:VCALENDAR