BEGIN:VCALENDAR
VERSION:2.0
PRODID:-//ISO/IEC 17020 Consultants - ECPv4.6.2//NONSGML v1.0//EN
CALSCALE:GREGORIAN
METHOD:PUBLISH
X-WR-CALNAME:ISO/IEC 17020 Consultants
X-ORIGINAL-URL:http://www.17020-consultants.nl
X-WR-CALDESC:Events for ISO/IEC 17020 Consultants
BEGIN:VEVENT
DTSTART;TZID=UTC+2:20170929T100000
DTEND;TZID=UTC+2:20170929T130000
DTSTAMP:20260422T221342
CREATED:20170825T120300Z
LAST-MODIFIED:20170825T120300Z
UID:905-1506679200-1506690000@www.17020-consultants.nl
SUMMARY:NEN Informatiebijeenkomst conformiteitsbeoordeling
DESCRIPTION:Certificaten\, zelfverklaringen\, keurmerken\, het zijn belangrijke manieren om conformiteit aan te tonen. Voor vertrouwen in internationale handel zijn ze van cruciaal belang. Het systeem van conformiteit is gebaseerd op internationale ISO normen. Deze normen worden op dit moment geschaduwd door een Nederlandse commissie. Op 29 september vindt er een informatiebijeenkomst plaats over het werkprogramma van deze commissie en mogelijkheden tot deelname. \n
URL:http://www.17020-consultants.nl/17020-evenement/nen-informatiebijeenkomst-conformiteitsbeoordeling/
LOCATION:Vlinderweg 6\, Delft\, Nederland
CATEGORIES:Overige evenementen
ATTACH;FMTTYPE=image/jpeg:http://www.17020-consultants.nl/wp-content/uploads/2016/10/nen-logo.jpg
END:VEVENT
END:VCALENDAR