BEGIN:VCALENDAR
VERSION:2.0
PRODID:-//ISO/IEC 17020 Consultants - ECPv4.6.2//NONSGML v1.0//EN
CALSCALE:GREGORIAN
METHOD:PUBLISH
X-WR-CALNAME:ISO/IEC 17020 Consultants
X-ORIGINAL-URL:http://www.17020-consultants.nl
X-WR-CALDESC:Events for ISO/IEC 17020 Consultants
BEGIN:VEVENT
DTSTART;VALUE=DATE:20171014
DTEND;VALUE=DATE:20171015
DTSTAMP:20260422T221413
CREATED:20161014T100136Z
LAST-MODIFIED:20170811T132252Z
UID:794-1507939200-1508025599@www.17020-consultants.nl
SUMMARY:World Standards Day
DESCRIPTION:Ieder jaar op 14 oktober vieren de leden van IEC\, ISO en ITU de World Standards Day. Dit jaar is het thema: &#8220;Standaards maken steden slimmer&#8221;. \nIn Nederland wordt ter gelegenheid van World Standards Day de zogenaamde NENnovation-prijs uitgereikt. Aangezien de World Standards Day dit jaar op een zaterdag valt\, gebeurt dit op 13 oktober. Verdere informatie vindt u hier: https://www.nen.nl/Nieuws/Nieuws/Welke-organisatie-wint-de-NENnovation-Award.htm \n
URL:http://www.17020-consultants.nl/17020-evenement/world-standards-day-2/
CATEGORIES:Overige evenementen
ATTACH;FMTTYPE=image/jpeg:http://www.17020-consultants.nl/wp-content/uploads/2017/08/world-standards-day-2017.jpg
END:VEVENT
END:VCALENDAR