BEGIN:VCALENDAR
VERSION:2.0
PRODID:-//ISO/IEC 17020 Consultants - ECPv4.6.2//NONSGML v1.0//EN
CALSCALE:GREGORIAN
METHOD:PUBLISH
X-WR-CALNAME:ISO/IEC 17020 Consultants
X-ORIGINAL-URL:http://www.17020-consultants.nl
X-WR-CALDESC:Events for ISO/IEC 17020 Consultants
BEGIN:VEVENT
DTSTART;VALUE=DATE:20180609
DTEND;VALUE=DATE:20180610
DTSTAMP:20260420T095122
CREATED:20180606T104437Z
LAST-MODIFIED:20180606T104437Z
UID:990-1528502400-1528588799@www.17020-consultants.nl
SUMMARY:Wereld Accreditatie Dag 2018
DESCRIPTION:Insiders kennen intussen de traditie van het IAF en de ILAC. Gezamenlijk bedenken deze twee instanties (IAF=International Accreditation Forum) en (ILAC= International Laboratory Accreditation Cooperation) jaarlijks ter gelegenheid van de World Accreditation Day een motto waaronder op deze dag bijzondere aandacht uitgaat naar een bepaald onderwerp\, waar accreditatie een centrale rol speelt. IAF en ILAC hebben beide een harmoniserende en coördinerende taak met betrekking tot de wederzijdse erkenning van accreditatieinstellingen. ILAC heeft deze taak voor laboratoria en inspectie-instellingen en IAF voor certificatie-instellingen. Dit jaar luidt het motto “Delivering a safer world”. \nDus in het Nederlands luidt het thema: “Accreditatie levert een veiligere wereld op” \n
URL:http://www.17020-consultants.nl/17020-evenement/wereld-accreditatie-dag-2018/
CATEGORIES:Overige evenementen
ATTACH;FMTTYPE=image/jpeg:http://www.17020-consultants.nl/wp-content/uploads/2018/04/WAD-2018-poster.jpg
END:VEVENT
END:VCALENDAR